BEGIN:VCALENDAR
VERSION:2.0
PRODID:-//Secret Boston | Events, Food and Culture - ECPv6.15.20//NONSGML v1.0//EN
CALSCALE:GREGORIAN
METHOD:PUBLISH
X-WR-CALNAME:Secret Boston | Events, Food and Culture
X-ORIGINAL-URL:https://secretboston.co
X-WR-CALDESC:Events for Secret Boston | Events, Food and Culture
REFRESH-INTERVAL;VALUE=DURATION:PT1H
X-Robots-Tag:noindex
X-PUBLISHED-TTL:PT1H
BEGIN:VTIMEZONE
TZID:America/New_York
BEGIN:DAYLIGHT
TZOFFSETFROM:-0500
TZOFFSETTO:-0400
TZNAME:EDT
DTSTART:20250309T070000
END:DAYLIGHT
BEGIN:STANDARD
TZOFFSETFROM:-0400
TZOFFSETTO:-0500
TZNAME:EST
DTSTART:20251102T060000
END:STANDARD
BEGIN:DAYLIGHT
TZOFFSETFROM:-0500
TZOFFSETTO:-0400
TZNAME:EDT
DTSTART:20260308T070000
END:DAYLIGHT
BEGIN:STANDARD
TZOFFSETFROM:-0400
TZOFFSETTO:-0500
TZNAME:EST
DTSTART:20261101T060000
END:STANDARD
BEGIN:DAYLIGHT
TZOFFSETFROM:-0500
TZOFFSETTO:-0400
TZNAME:EDT
DTSTART:20270314T070000
END:DAYLIGHT
BEGIN:STANDARD
TZOFFSETFROM:-0400
TZOFFSETTO:-0500
TZNAME:EST
DTSTART:20271107T060000
END:STANDARD
END:VTIMEZONE
BEGIN:VEVENT
DTSTART;TZID=America/New_York:20260419T130000
DTEND;TZID=America/New_York:20260419T153000
DTSTAMP:20260422T072608
CREATED:20260416T194227Z
LAST-MODIFIED:20260416T194227Z
UID:10007573-1776603600-1776612600@secretboston.co
SUMMARY:2nd Annual Boston Bicycle Day
DESCRIPTION:Join us to learn about and celebrate Bicycle Day to support the local psychedelic movement and community! \n\n\n\n\n2nd Annual Boston Bicycle Day Celebration + Fundraiser for Psychedelic Advocacy and Education \nCome join us for a day of celebration and community building. Learn about Bicycle Day and what it means to the psychedelic movement. Meet local organization working towards a safer and inclusive psychedelic ecosystem\, including: Boston Psychedelic Society\, Entheogen Melanin Collective\, Parents for Plant Medicine\, and Safer Psychedelic Association of New England (SPAN)\, hosted by Mass Healing. Together\, we can make a difference!
URL:https://secretboston.co/event/2nd-annual-boston-bicycle-day/
LOCATION:Street\, 369 Huntington Street\, Boston\, MA\, 02115\, United States
CATEGORIES:Community,Outdoor & Nature
ATTACH;FMTTYPE=image/png:https://secretboston.co/wp-content/uploads/2026/04/bicycle-day.png
END:VEVENT
END:VCALENDAR