BEGIN:VCALENDAR
VERSION:2.0
PRODID:-//Secret Boston | Events, Food and Culture - ECPv6.15.20//NONSGML v1.0//EN
CALSCALE:GREGORIAN
METHOD:PUBLISH
X-ORIGINAL-URL:https://secretboston.co
X-WR-CALDESC:Events for Secret Boston | Events, Food and Culture
REFRESH-INTERVAL;VALUE=DURATION:PT1H
X-Robots-Tag:noindex
X-PUBLISHED-TTL:PT1H
BEGIN:VTIMEZONE
TZID:America/New_York
BEGIN:DAYLIGHT
TZOFFSETFROM:-0500
TZOFFSETTO:-0400
TZNAME:EDT
DTSTART:20250309T070000
END:DAYLIGHT
BEGIN:STANDARD
TZOFFSETFROM:-0400
TZOFFSETTO:-0500
TZNAME:EST
DTSTART:20251102T060000
END:STANDARD
BEGIN:DAYLIGHT
TZOFFSETFROM:-0500
TZOFFSETTO:-0400
TZNAME:EDT
DTSTART:20260308T070000
END:DAYLIGHT
BEGIN:STANDARD
TZOFFSETFROM:-0400
TZOFFSETTO:-0500
TZNAME:EST
DTSTART:20261101T060000
END:STANDARD
BEGIN:DAYLIGHT
TZOFFSETFROM:-0500
TZOFFSETTO:-0400
TZNAME:EDT
DTSTART:20270314T070000
END:DAYLIGHT
BEGIN:STANDARD
TZOFFSETFROM:-0400
TZOFFSETTO:-0500
TZNAME:EST
DTSTART:20271107T060000
END:STANDARD
END:VTIMEZONE
BEGIN:VEVENT
DTSTART;TZID=America/New_York:20261106T160000
DTEND;TZID=America/New_York:20261108T160000
DTSTAMP:20260420T081508
CREATED:20260417T213335Z
LAST-MODIFIED:20260417T213335Z
UID:10007966-1793980800-1794153600@secretboston.co
SUMMARY:48th Boston International Antiquarian Book Fair
DESCRIPTION:The Boston Book Fair is the annual fall gathering for book lovers and collectors\, featuring the top selection of items available on the international literary market. Mark your calendars for the 48th annual gathering of U.S. and international dealers\, sanctioned by the Antiquarian Booksellers’ Association of America and the International League of Antiquarian Booksellers. This three-day event features fine and rare materials from around the globe\, including manuscripts\, modern first editions\, children’s books\, ephemera\, maps and autographs\, as well as antiquarian books on a vast array of topics.
URL:https://secretboston.co/event/48th-boston-international-antiquarian-book-fair/
LOCATION:Hynes Convention Center\, 900 Boylston St.\, Boston\, MA\, 02115\, United States
CATEGORIES:Festivals, Conferences & Conventions,Markets & Shopping
ATTACH;FMTTYPE=image/jpeg:https://secretboston.co/wp-content/uploads/2026/04/book-fair.jpg
END:VEVENT
END:VCALENDAR