BEGIN:VCALENDAR
VERSION:2.0
PRODID:-//Secret Boston | Events, Food and Culture - ECPv6.15.20//NONSGML v1.0//EN
CALSCALE:GREGORIAN
METHOD:PUBLISH
X-WR-CALNAME:Secret Boston | Events, Food and Culture
X-ORIGINAL-URL:https://secretboston.co
X-WR-CALDESC:Events for Secret Boston | Events, Food and Culture
REFRESH-INTERVAL;VALUE=DURATION:PT1H
X-Robots-Tag:noindex
X-PUBLISHED-TTL:PT1H
BEGIN:VTIMEZONE
TZID:America/New_York
BEGIN:DAYLIGHT
TZOFFSETFROM:-0500
TZOFFSETTO:-0400
TZNAME:EDT
DTSTART:20250309T070000
END:DAYLIGHT
BEGIN:STANDARD
TZOFFSETFROM:-0400
TZOFFSETTO:-0500
TZNAME:EST
DTSTART:20251102T060000
END:STANDARD
BEGIN:DAYLIGHT
TZOFFSETFROM:-0500
TZOFFSETTO:-0400
TZNAME:EDT
DTSTART:20260308T070000
END:DAYLIGHT
BEGIN:STANDARD
TZOFFSETFROM:-0400
TZOFFSETTO:-0500
TZNAME:EST
DTSTART:20261101T060000
END:STANDARD
BEGIN:DAYLIGHT
TZOFFSETFROM:-0500
TZOFFSETTO:-0400
TZNAME:EDT
DTSTART:20270314T070000
END:DAYLIGHT
BEGIN:STANDARD
TZOFFSETFROM:-0400
TZOFFSETTO:-0500
TZNAME:EST
DTSTART:20271107T060000
END:STANDARD
END:VTIMEZONE
BEGIN:VTIMEZONE
TZID:America/New_York
BEGIN:DAYLIGHT
TZOFFSETFROM:-0500
TZOFFSETTO:-0400
TZNAME:EDT
DTSTART:20250309T070000
END:DAYLIGHT
BEGIN:STANDARD
TZOFFSETFROM:-0400
TZOFFSETTO:-0500
TZNAME:EST
DTSTART:20251102T060000
END:STANDARD
BEGIN:DAYLIGHT
TZOFFSETFROM:-0500
TZOFFSETTO:-0400
TZNAME:EDT
DTSTART:20260308T070000
END:DAYLIGHT
BEGIN:STANDARD
TZOFFSETFROM:-0400
TZOFFSETTO:-0500
TZNAME:EST
DTSTART:20261101T060000
END:STANDARD
BEGIN:DAYLIGHT
TZOFFSETFROM:-0500
TZOFFSETTO:-0400
TZNAME:EDT
DTSTART:20270314T070000
END:DAYLIGHT
BEGIN:STANDARD
TZOFFSETFROM:-0400
TZOFFSETTO:-0500
TZNAME:EST
DTSTART:20271107T060000
END:STANDARD
END:VTIMEZONE
BEGIN:VEVENT
DTSTART;TZID=America/New_York:20260507T193000
DTEND;TZID=America/New_York:20260507T213000
DTSTAMP:20260422T090059
CREATED:20260327T210823Z
LAST-MODIFIED:20260327T210823Z
UID:10006182-1778182200-1778189400@secretboston.co
SUMMARY:Nataly Aukar
DESCRIPTION:Nataly Aukar is a Lebanese born and raised writer and performer based in NYC. As a stand-up comic\, Nataly has toured the world\, opening for comedians such as Ramy Youssef (Ramy)\, Mo Amer (Mo\, Black Adam)\, and Gad El Maleh (Huge in France) and was featured on Don’t Tell Comedy\, and in the Netflix is a Joke Festival as part of the “Introducing…” showcase. She also starred\, alongside Succession’s Hiam Abbas\, in Noa Osheroff’s short film Sofa So Good which was highlighted in The New Yorker. Nataly can be seen in the Netflix feature The Life List\, directed by Adam Brooks and just wrapped the indie feature Skit written and directed by Badr Mastrouq and Des Lombardo. She is touring her new hour all across North America\, the United Kingdom and the Middle East. She was recently featured on Vulture’s 2025 “The Comedians You Should and Will Know of 2025”.
URL:https://secretboston.co/event/nataly-aukar/
LOCATION:Crystal Ballroom at Somerville Theatre\, 55 Davis Square\, Somerville\, MA\, 02143\, United States
CATEGORIES:Comedy
ATTACH;FMTTYPE=image/jpeg:https://secretboston.co/wp-content/uploads/2026/03/Nataly1080x1350.jpg
END:VEVENT
BEGIN:VEVENT
DTSTART;TZID=America/New_York:20260514T193000
DTEND;TZID=America/New_York:20260514T213000
DTSTAMP:20260422T090059
CREATED:20260218T205505Z
LAST-MODIFIED:20260218T205505Z
UID:10005041-1778787000-1778794200@secretboston.co
SUMMARY:Vittorio Angelone
DESCRIPTION:Vittorio Angelone has always denied any involvement in stand up comedy or stand up comedy related activities.
URL:https://secretboston.co/event/vittorio-angelone/
LOCATION:Crystal Ballroom at Somerville Theatre\, 55 Davis Square\, Somerville\, MA\, 02143\, United States
CATEGORIES:Comedy
ATTACH;FMTTYPE=image/png:https://secretboston.co/wp-content/uploads/2026/02/Screenshot-2026-02-18-at-10.54.47-AM.png
END:VEVENT
BEGIN:VEVENT
DTSTART;TZID=America/New_York:20260522T193000
DTEND;TZID=America/New_York:20260522T213000
DTSTAMP:20260422T090059
CREATED:20260323T151015Z
LAST-MODIFIED:20260323T151015Z
UID:10005271-1779478200-1779485400@secretboston.co
SUMMARY:Ladies and Tangents: Girls Gone Mild Tour
DESCRIPTION:Jeri & Ciara are at it again. Live and at your local stage\, the Ladies & Tangents Podcast is bringing the nostalgia of a 90’s sleepover to a place serving alcohol near you. We’ve traded wet t-shirts for sweatpants and shots for sleepy time tea. We still know how to party\, but these knees will only allow for us to go on The Girls Gone Mild Tour. Pack your collagen and your antacid\, we can’t wait to sleep with you!
URL:https://secretboston.co/event/ladies-and-tangents-girls-gone-mild-tour/
LOCATION:Crystal Ballroom at Somerville Theatre\, 55 Davis Square\, Somerville\, MA\, 02143\, United States
CATEGORIES:Comedy
ATTACH;FMTTYPE=image/jpeg:https://secretboston.co/wp-content/uploads/2026/03/Ladies1080x1350.jpg
END:VEVENT
END:VCALENDAR