BEGIN:VCALENDAR
VERSION:2.0
PRODID:-//Secret Boston | Events, Food and Culture - ECPv6.15.20//NONSGML v1.0//EN
CALSCALE:GREGORIAN
METHOD:PUBLISH
X-WR-CALNAME:Secret Boston | Events, Food and Culture
X-ORIGINAL-URL:https://secretboston.co
X-WR-CALDESC:Events for Secret Boston | Events, Food and Culture
REFRESH-INTERVAL;VALUE=DURATION:PT1H
X-Robots-Tag:noindex
X-PUBLISHED-TTL:PT1H
BEGIN:VTIMEZONE
TZID:America/New_York
BEGIN:DAYLIGHT
TZOFFSETFROM:-0500
TZOFFSETTO:-0400
TZNAME:EDT
DTSTART:20250309T070000
END:DAYLIGHT
BEGIN:STANDARD
TZOFFSETFROM:-0400
TZOFFSETTO:-0500
TZNAME:EST
DTSTART:20251102T060000
END:STANDARD
BEGIN:DAYLIGHT
TZOFFSETFROM:-0500
TZOFFSETTO:-0400
TZNAME:EDT
DTSTART:20260308T070000
END:DAYLIGHT
BEGIN:STANDARD
TZOFFSETFROM:-0400
TZOFFSETTO:-0500
TZNAME:EST
DTSTART:20261101T060000
END:STANDARD
BEGIN:DAYLIGHT
TZOFFSETFROM:-0500
TZOFFSETTO:-0400
TZNAME:EDT
DTSTART:20270314T070000
END:DAYLIGHT
BEGIN:STANDARD
TZOFFSETFROM:-0400
TZOFFSETTO:-0500
TZNAME:EST
DTSTART:20271107T060000
END:STANDARD
END:VTIMEZONE
BEGIN:VEVENT
DTSTART;TZID=America/New_York:20260423T203000
DTEND;TZID=America/New_York:20260423T233000
DTSTAMP:20260422T060735
CREATED:20260416T140134Z
LAST-MODIFIED:20260416T140134Z
UID:10007248-1776976200-1776987000@secretboston.co
SUMMARY:Fashionably LATE Thursdays at The Liberty
DESCRIPTION:Fashionably LATE brings Boston’s fashion scene to life. On Thursdays\, the hotel becomes a who’s who of Boston’s fashion elite as the hotel’s expansive lobby turns into an interactive fashion show\, featuring music starting at 8:30pm from DJ Skoolyahd. \nFrom 9pm – 10pm\, models strut through the lobby’s Catwalk and lobby\, pose on tables\, ride the escalators\, and weave through the crowd as attendees evaluate up-and-coming Boston designer’s work. The event has solidified The Liberty as Boston’s fashion hotel. \nA total of 3 rounds and 12 looks\, fashionistas\, night-out locals\, and fashion photographers are encouraged to come.
URL:https://secretboston.co/event/fashionably-late-thursdays-at-the-liberty/2026-04-23/
LOCATION:The Liberty Hotel\, 215 Charles Street\, Boston\, MA\, 02114\, United States
CATEGORIES:Fashion,Nightlife & Dancing
ATTACH;FMTTYPE=image/png:https://secretboston.co/wp-content/uploads/2026/04/fashionably-late.png
END:VEVENT
BEGIN:VEVENT
DTSTART;TZID=America/New_York:20260430T203000
DTEND;TZID=America/New_York:20260430T233000
DTSTAMP:20260422T060735
CREATED:20260416T140134Z
LAST-MODIFIED:20260416T140134Z
UID:10007249-1777581000-1777591800@secretboston.co
SUMMARY:Fashionably LATE Thursdays at The Liberty
DESCRIPTION:Fashionably LATE brings Boston’s fashion scene to life. On Thursdays\, the hotel becomes a who’s who of Boston’s fashion elite as the hotel’s expansive lobby turns into an interactive fashion show\, featuring music starting at 8:30pm from DJ Skoolyahd. \nFrom 9pm – 10pm\, models strut through the lobby’s Catwalk and lobby\, pose on tables\, ride the escalators\, and weave through the crowd as attendees evaluate up-and-coming Boston designer’s work. The event has solidified The Liberty as Boston’s fashion hotel. \nA total of 3 rounds and 12 looks\, fashionistas\, night-out locals\, and fashion photographers are encouraged to come.
URL:https://secretboston.co/event/fashionably-late-thursdays-at-the-liberty/2026-04-30/
LOCATION:The Liberty Hotel\, 215 Charles Street\, Boston\, MA\, 02114\, United States
CATEGORIES:Fashion,Nightlife & Dancing
ATTACH;FMTTYPE=image/png:https://secretboston.co/wp-content/uploads/2026/04/fashionably-late.png
END:VEVENT
BEGIN:VEVENT
DTSTART;TZID=America/New_York:20260507T203000
DTEND;TZID=America/New_York:20260507T233000
DTSTAMP:20260422T060735
CREATED:20260416T140134Z
LAST-MODIFIED:20260416T140134Z
UID:10007250-1778185800-1778196600@secretboston.co
SUMMARY:Fashionably LATE Thursdays at The Liberty
DESCRIPTION:Fashionably LATE brings Boston’s fashion scene to life. On Thursdays\, the hotel becomes a who’s who of Boston’s fashion elite as the hotel’s expansive lobby turns into an interactive fashion show\, featuring music starting at 8:30pm from DJ Skoolyahd. \nFrom 9pm – 10pm\, models strut through the lobby’s Catwalk and lobby\, pose on tables\, ride the escalators\, and weave through the crowd as attendees evaluate up-and-coming Boston designer’s work. The event has solidified The Liberty as Boston’s fashion hotel. \nA total of 3 rounds and 12 looks\, fashionistas\, night-out locals\, and fashion photographers are encouraged to come.
URL:https://secretboston.co/event/fashionably-late-thursdays-at-the-liberty/2026-05-07/
LOCATION:The Liberty Hotel\, 215 Charles Street\, Boston\, MA\, 02114\, United States
CATEGORIES:Fashion,Nightlife & Dancing
ATTACH;FMTTYPE=image/png:https://secretboston.co/wp-content/uploads/2026/04/fashionably-late.png
END:VEVENT
BEGIN:VEVENT
DTSTART;TZID=America/New_York:20260514T203000
DTEND;TZID=America/New_York:20260514T233000
DTSTAMP:20260422T060735
CREATED:20260416T140134Z
LAST-MODIFIED:20260416T140134Z
UID:10007251-1778790600-1778801400@secretboston.co
SUMMARY:Fashionably LATE Thursdays at The Liberty
DESCRIPTION:Fashionably LATE brings Boston’s fashion scene to life. On Thursdays\, the hotel becomes a who’s who of Boston’s fashion elite as the hotel’s expansive lobby turns into an interactive fashion show\, featuring music starting at 8:30pm from DJ Skoolyahd. \nFrom 9pm – 10pm\, models strut through the lobby’s Catwalk and lobby\, pose on tables\, ride the escalators\, and weave through the crowd as attendees evaluate up-and-coming Boston designer’s work. The event has solidified The Liberty as Boston’s fashion hotel. \nA total of 3 rounds and 12 looks\, fashionistas\, night-out locals\, and fashion photographers are encouraged to come.
URL:https://secretboston.co/event/fashionably-late-thursdays-at-the-liberty/2026-05-14/
LOCATION:The Liberty Hotel\, 215 Charles Street\, Boston\, MA\, 02114\, United States
CATEGORIES:Fashion,Nightlife & Dancing
ATTACH;FMTTYPE=image/png:https://secretboston.co/wp-content/uploads/2026/04/fashionably-late.png
END:VEVENT
BEGIN:VEVENT
DTSTART;TZID=America/New_York:20260521T203000
DTEND;TZID=America/New_York:20260521T233000
DTSTAMP:20260422T060735
CREATED:20260416T140134Z
LAST-MODIFIED:20260416T140134Z
UID:10007252-1779395400-1779406200@secretboston.co
SUMMARY:Fashionably LATE Thursdays at The Liberty
DESCRIPTION:Fashionably LATE brings Boston’s fashion scene to life. On Thursdays\, the hotel becomes a who’s who of Boston’s fashion elite as the hotel’s expansive lobby turns into an interactive fashion show\, featuring music starting at 8:30pm from DJ Skoolyahd. \nFrom 9pm – 10pm\, models strut through the lobby’s Catwalk and lobby\, pose on tables\, ride the escalators\, and weave through the crowd as attendees evaluate up-and-coming Boston designer’s work. The event has solidified The Liberty as Boston’s fashion hotel. \nA total of 3 rounds and 12 looks\, fashionistas\, night-out locals\, and fashion photographers are encouraged to come.
URL:https://secretboston.co/event/fashionably-late-thursdays-at-the-liberty/2026-05-21/
LOCATION:The Liberty Hotel\, 215 Charles Street\, Boston\, MA\, 02114\, United States
CATEGORIES:Fashion,Nightlife & Dancing
ATTACH;FMTTYPE=image/png:https://secretboston.co/wp-content/uploads/2026/04/fashionably-late.png
END:VEVENT
END:VCALENDAR