BEGIN:VCALENDAR
VERSION:2.0
PRODID:-//Secret Boston | Events, Food and Culture - ECPv6.15.20//NONSGML v1.0//EN
CALSCALE:GREGORIAN
METHOD:PUBLISH
X-WR-CALNAME:Secret Boston | Events, Food and Culture
X-ORIGINAL-URL:https://secretboston.co
X-WR-CALDESC:Events for Secret Boston | Events, Food and Culture
REFRESH-INTERVAL;VALUE=DURATION:PT1H
X-Robots-Tag:noindex
X-PUBLISHED-TTL:PT1H
BEGIN:VTIMEZONE
TZID:UTC
BEGIN:STANDARD
TZOFFSETFROM:+0000
TZOFFSETTO:+0000
TZNAME:UTC
DTSTART:20250101T000000
END:STANDARD
END:VTIMEZONE
BEGIN:VEVENT
DTSTART;TZID=UTC:20260426T110000
DTEND;TZID=UTC:20260426T160000
DTSTAMP:20260420T045726
CREATED:20260125T041754Z
LAST-MODIFIED:20260125T042142Z
UID:10003680-1777201200-1777219200@secretboston.co
SUMMARY:SoWa Sundays
DESCRIPTION:Spend a Sunday afternoon meeting the artists directly.\nFamily friendly and free event. Plenty of parking is available.
URL:https://secretboston.co/event/sowa-sundays/2026-04-26/
LOCATION:SoWa Art + Design District\, 450 Harrison Avenue\, Boston\, MA\, 02118\, United States
CATEGORIES:Community,Family & Kids,Markets & Shopping
ATTACH;FMTTYPE=image/jpeg:https://secretboston.co/wp-content/uploads/2026/01/sowa-sundays.jpg
END:VEVENT
BEGIN:VEVENT
DTSTART;TZID=UTC:20260503T110000
DTEND;TZID=UTC:20260503T160000
DTSTAMP:20260420T045726
CREATED:20260125T041754Z
LAST-MODIFIED:20260125T042142Z
UID:10003681-1777806000-1777824000@secretboston.co
SUMMARY:SoWa Sundays
DESCRIPTION:Spend a Sunday afternoon meeting the artists directly.\nFamily friendly and free event. Plenty of parking is available.
URL:https://secretboston.co/event/sowa-sundays/2026-05-03/
LOCATION:SoWa Art + Design District\, 450 Harrison Avenue\, Boston\, MA\, 02118\, United States
CATEGORIES:Community,Family & Kids,Markets & Shopping
ATTACH;FMTTYPE=image/jpeg:https://secretboston.co/wp-content/uploads/2026/01/sowa-sundays.jpg
END:VEVENT
BEGIN:VEVENT
DTSTART;TZID=UTC:20260510T110000
DTEND;TZID=UTC:20260510T160000
DTSTAMP:20260420T045726
CREATED:20260125T041754Z
LAST-MODIFIED:20260125T042142Z
UID:10003682-1778410800-1778428800@secretboston.co
SUMMARY:SoWa Sundays
DESCRIPTION:Spend a Sunday afternoon meeting the artists directly.\nFamily friendly and free event. Plenty of parking is available.
URL:https://secretboston.co/event/sowa-sundays/2026-05-10/
LOCATION:SoWa Art + Design District\, 450 Harrison Avenue\, Boston\, MA\, 02118\, United States
CATEGORIES:Community,Family & Kids,Markets & Shopping
ATTACH;FMTTYPE=image/jpeg:https://secretboston.co/wp-content/uploads/2026/01/sowa-sundays.jpg
END:VEVENT
BEGIN:VEVENT
DTSTART;TZID=UTC:20260517T110000
DTEND;TZID=UTC:20260517T160000
DTSTAMP:20260420T045726
CREATED:20260125T041754Z
LAST-MODIFIED:20260125T042142Z
UID:10003683-1779015600-1779033600@secretboston.co
SUMMARY:SoWa Sundays
DESCRIPTION:Spend a Sunday afternoon meeting the artists directly.\nFamily friendly and free event. Plenty of parking is available.
URL:https://secretboston.co/event/sowa-sundays/2026-05-17/
LOCATION:SoWa Art + Design District\, 450 Harrison Avenue\, Boston\, MA\, 02118\, United States
CATEGORIES:Community,Family & Kids,Markets & Shopping
ATTACH;FMTTYPE=image/jpeg:https://secretboston.co/wp-content/uploads/2026/01/sowa-sundays.jpg
END:VEVENT
BEGIN:VEVENT
DTSTART;TZID=UTC:20260524T110000
DTEND;TZID=UTC:20260524T160000
DTSTAMP:20260420T045726
CREATED:20260125T041754Z
LAST-MODIFIED:20260125T042142Z
UID:10003684-1779620400-1779638400@secretboston.co
SUMMARY:SoWa Sundays
DESCRIPTION:Spend a Sunday afternoon meeting the artists directly.\nFamily friendly and free event. Plenty of parking is available.
URL:https://secretboston.co/event/sowa-sundays/2026-05-24/
LOCATION:SoWa Art + Design District\, 450 Harrison Avenue\, Boston\, MA\, 02118\, United States
CATEGORIES:Community,Family & Kids,Markets & Shopping
ATTACH;FMTTYPE=image/jpeg:https://secretboston.co/wp-content/uploads/2026/01/sowa-sundays.jpg
END:VEVENT
BEGIN:VEVENT
DTSTART;TZID=UTC:20260531T110000
DTEND;TZID=UTC:20260531T160000
DTSTAMP:20260420T045726
CREATED:20260125T041754Z
LAST-MODIFIED:20260125T042142Z
UID:10003685-1780225200-1780243200@secretboston.co
SUMMARY:SoWa Sundays
DESCRIPTION:Spend a Sunday afternoon meeting the artists directly.\nFamily friendly and free event. Plenty of parking is available.
URL:https://secretboston.co/event/sowa-sundays/2026-05-31/
LOCATION:SoWa Art + Design District\, 450 Harrison Avenue\, Boston\, MA\, 02118\, United States
CATEGORIES:Community,Family & Kids,Markets & Shopping
ATTACH;FMTTYPE=image/jpeg:https://secretboston.co/wp-content/uploads/2026/01/sowa-sundays.jpg
END:VEVENT
BEGIN:VEVENT
DTSTART;TZID=UTC:20260607T110000
DTEND;TZID=UTC:20260607T160000
DTSTAMP:20260420T045726
CREATED:20260125T041754Z
LAST-MODIFIED:20260125T042142Z
UID:10003686-1780830000-1780848000@secretboston.co
SUMMARY:SoWa Sundays
DESCRIPTION:Spend a Sunday afternoon meeting the artists directly.\nFamily friendly and free event. Plenty of parking is available.
URL:https://secretboston.co/event/sowa-sundays/2026-06-07/
LOCATION:SoWa Art + Design District\, 450 Harrison Avenue\, Boston\, MA\, 02118\, United States
CATEGORIES:Community,Family & Kids,Markets & Shopping
ATTACH;FMTTYPE=image/jpeg:https://secretboston.co/wp-content/uploads/2026/01/sowa-sundays.jpg
END:VEVENT
BEGIN:VEVENT
DTSTART;TZID=UTC:20260614T110000
DTEND;TZID=UTC:20260614T160000
DTSTAMP:20260420T045726
CREATED:20260125T041754Z
LAST-MODIFIED:20260125T042142Z
UID:10003687-1781434800-1781452800@secretboston.co
SUMMARY:SoWa Sundays
DESCRIPTION:Spend a Sunday afternoon meeting the artists directly.\nFamily friendly and free event. Plenty of parking is available.
URL:https://secretboston.co/event/sowa-sundays/2026-06-14/
LOCATION:SoWa Art + Design District\, 450 Harrison Avenue\, Boston\, MA\, 02118\, United States
CATEGORIES:Community,Family & Kids,Markets & Shopping
ATTACH;FMTTYPE=image/jpeg:https://secretboston.co/wp-content/uploads/2026/01/sowa-sundays.jpg
END:VEVENT
BEGIN:VEVENT
DTSTART;TZID=UTC:20260621T110000
DTEND;TZID=UTC:20260621T160000
DTSTAMP:20260420T045726
CREATED:20260125T041754Z
LAST-MODIFIED:20260125T042142Z
UID:10003688-1782039600-1782057600@secretboston.co
SUMMARY:SoWa Sundays
DESCRIPTION:Spend a Sunday afternoon meeting the artists directly.\nFamily friendly and free event. Plenty of parking is available.
URL:https://secretboston.co/event/sowa-sundays/2026-06-21/
LOCATION:SoWa Art + Design District\, 450 Harrison Avenue\, Boston\, MA\, 02118\, United States
CATEGORIES:Community,Family & Kids,Markets & Shopping
ATTACH;FMTTYPE=image/jpeg:https://secretboston.co/wp-content/uploads/2026/01/sowa-sundays.jpg
END:VEVENT
BEGIN:VEVENT
DTSTART;TZID=UTC:20260628T110000
DTEND;TZID=UTC:20260628T160000
DTSTAMP:20260420T045726
CREATED:20260125T041754Z
LAST-MODIFIED:20260125T042142Z
UID:10003689-1782644400-1782662400@secretboston.co
SUMMARY:SoWa Sundays
DESCRIPTION:Spend a Sunday afternoon meeting the artists directly.\nFamily friendly and free event. Plenty of parking is available.
URL:https://secretboston.co/event/sowa-sundays/2026-06-28/
LOCATION:SoWa Art + Design District\, 450 Harrison Avenue\, Boston\, MA\, 02118\, United States
CATEGORIES:Community,Family & Kids,Markets & Shopping
ATTACH;FMTTYPE=image/jpeg:https://secretboston.co/wp-content/uploads/2026/01/sowa-sundays.jpg
END:VEVENT
BEGIN:VEVENT
DTSTART;TZID=UTC:20260705T110000
DTEND;TZID=UTC:20260705T160000
DTSTAMP:20260420T045726
CREATED:20260125T041754Z
LAST-MODIFIED:20260125T042142Z
UID:10003690-1783249200-1783267200@secretboston.co
SUMMARY:SoWa Sundays
DESCRIPTION:Spend a Sunday afternoon meeting the artists directly.\nFamily friendly and free event. Plenty of parking is available.
URL:https://secretboston.co/event/sowa-sundays/2026-07-05/
LOCATION:SoWa Art + Design District\, 450 Harrison Avenue\, Boston\, MA\, 02118\, United States
CATEGORIES:Community,Family & Kids,Markets & Shopping
ATTACH;FMTTYPE=image/jpeg:https://secretboston.co/wp-content/uploads/2026/01/sowa-sundays.jpg
END:VEVENT
BEGIN:VEVENT
DTSTART;TZID=UTC:20260712T110000
DTEND;TZID=UTC:20260712T160000
DTSTAMP:20260420T045726
CREATED:20260125T041754Z
LAST-MODIFIED:20260125T042142Z
UID:10003691-1783854000-1783872000@secretboston.co
SUMMARY:SoWa Sundays
DESCRIPTION:Spend a Sunday afternoon meeting the artists directly.\nFamily friendly and free event. Plenty of parking is available.
URL:https://secretboston.co/event/sowa-sundays/2026-07-12/
LOCATION:SoWa Art + Design District\, 450 Harrison Avenue\, Boston\, MA\, 02118\, United States
CATEGORIES:Community,Family & Kids,Markets & Shopping
ATTACH;FMTTYPE=image/jpeg:https://secretboston.co/wp-content/uploads/2026/01/sowa-sundays.jpg
END:VEVENT
BEGIN:VEVENT
DTSTART;TZID=UTC:20260719T110000
DTEND;TZID=UTC:20260719T160000
DTSTAMP:20260420T045726
CREATED:20260125T041754Z
LAST-MODIFIED:20260125T042142Z
UID:10003692-1784458800-1784476800@secretboston.co
SUMMARY:SoWa Sundays
DESCRIPTION:Spend a Sunday afternoon meeting the artists directly.\nFamily friendly and free event. Plenty of parking is available.
URL:https://secretboston.co/event/sowa-sundays/2026-07-19/
LOCATION:SoWa Art + Design District\, 450 Harrison Avenue\, Boston\, MA\, 02118\, United States
CATEGORIES:Community,Family & Kids,Markets & Shopping
ATTACH;FMTTYPE=image/jpeg:https://secretboston.co/wp-content/uploads/2026/01/sowa-sundays.jpg
END:VEVENT
BEGIN:VEVENT
DTSTART;TZID=UTC:20260726T110000
DTEND;TZID=UTC:20260726T160000
DTSTAMP:20260420T045726
CREATED:20260125T041754Z
LAST-MODIFIED:20260125T042142Z
UID:10003693-1785063600-1785081600@secretboston.co
SUMMARY:SoWa Sundays
DESCRIPTION:Spend a Sunday afternoon meeting the artists directly.\nFamily friendly and free event. Plenty of parking is available.
URL:https://secretboston.co/event/sowa-sundays/2026-07-26/
LOCATION:SoWa Art + Design District\, 450 Harrison Avenue\, Boston\, MA\, 02118\, United States
CATEGORIES:Community,Family & Kids,Markets & Shopping
ATTACH;FMTTYPE=image/jpeg:https://secretboston.co/wp-content/uploads/2026/01/sowa-sundays.jpg
END:VEVENT
BEGIN:VEVENT
DTSTART;TZID=UTC:20260802T110000
DTEND;TZID=UTC:20260802T160000
DTSTAMP:20260420T045726
CREATED:20260125T041754Z
LAST-MODIFIED:20260125T042142Z
UID:10003694-1785668400-1785686400@secretboston.co
SUMMARY:SoWa Sundays
DESCRIPTION:Spend a Sunday afternoon meeting the artists directly.\nFamily friendly and free event. Plenty of parking is available.
URL:https://secretboston.co/event/sowa-sundays/2026-08-02/
LOCATION:SoWa Art + Design District\, 450 Harrison Avenue\, Boston\, MA\, 02118\, United States
CATEGORIES:Community,Family & Kids,Markets & Shopping
ATTACH;FMTTYPE=image/jpeg:https://secretboston.co/wp-content/uploads/2026/01/sowa-sundays.jpg
END:VEVENT
BEGIN:VEVENT
DTSTART;TZID=UTC:20260809T110000
DTEND;TZID=UTC:20260809T160000
DTSTAMP:20260420T045726
CREATED:20260125T041754Z
LAST-MODIFIED:20260125T042142Z
UID:10003695-1786273200-1786291200@secretboston.co
SUMMARY:SoWa Sundays
DESCRIPTION:Spend a Sunday afternoon meeting the artists directly.\nFamily friendly and free event. Plenty of parking is available.
URL:https://secretboston.co/event/sowa-sundays/2026-08-09/
LOCATION:SoWa Art + Design District\, 450 Harrison Avenue\, Boston\, MA\, 02118\, United States
CATEGORIES:Community,Family & Kids,Markets & Shopping
ATTACH;FMTTYPE=image/jpeg:https://secretboston.co/wp-content/uploads/2026/01/sowa-sundays.jpg
END:VEVENT
BEGIN:VEVENT
DTSTART;TZID=UTC:20260816T110000
DTEND;TZID=UTC:20260816T160000
DTSTAMP:20260420T045726
CREATED:20260125T041754Z
LAST-MODIFIED:20260125T042142Z
UID:10003696-1786878000-1786896000@secretboston.co
SUMMARY:SoWa Sundays
DESCRIPTION:Spend a Sunday afternoon meeting the artists directly.\nFamily friendly and free event. Plenty of parking is available.
URL:https://secretboston.co/event/sowa-sundays/2026-08-16/
LOCATION:SoWa Art + Design District\, 450 Harrison Avenue\, Boston\, MA\, 02118\, United States
CATEGORIES:Community,Family & Kids,Markets & Shopping
ATTACH;FMTTYPE=image/jpeg:https://secretboston.co/wp-content/uploads/2026/01/sowa-sundays.jpg
END:VEVENT
BEGIN:VEVENT
DTSTART;TZID=UTC:20260823T110000
DTEND;TZID=UTC:20260823T160000
DTSTAMP:20260420T045726
CREATED:20260125T041754Z
LAST-MODIFIED:20260125T042142Z
UID:10003697-1787482800-1787500800@secretboston.co
SUMMARY:SoWa Sundays
DESCRIPTION:Spend a Sunday afternoon meeting the artists directly.\nFamily friendly and free event. Plenty of parking is available.
URL:https://secretboston.co/event/sowa-sundays/2026-08-23/
LOCATION:SoWa Art + Design District\, 450 Harrison Avenue\, Boston\, MA\, 02118\, United States
CATEGORIES:Community,Family & Kids,Markets & Shopping
ATTACH;FMTTYPE=image/jpeg:https://secretboston.co/wp-content/uploads/2026/01/sowa-sundays.jpg
END:VEVENT
BEGIN:VEVENT
DTSTART;TZID=UTC:20260830T110000
DTEND;TZID=UTC:20260830T160000
DTSTAMP:20260420T045726
CREATED:20260125T041754Z
LAST-MODIFIED:20260125T042142Z
UID:10003698-1788087600-1788105600@secretboston.co
SUMMARY:SoWa Sundays
DESCRIPTION:Spend a Sunday afternoon meeting the artists directly.\nFamily friendly and free event. Plenty of parking is available.
URL:https://secretboston.co/event/sowa-sundays/2026-08-30/
LOCATION:SoWa Art + Design District\, 450 Harrison Avenue\, Boston\, MA\, 02118\, United States
CATEGORIES:Community,Family & Kids,Markets & Shopping
ATTACH;FMTTYPE=image/jpeg:https://secretboston.co/wp-content/uploads/2026/01/sowa-sundays.jpg
END:VEVENT
BEGIN:VEVENT
DTSTART;TZID=UTC:20260906T110000
DTEND;TZID=UTC:20260906T160000
DTSTAMP:20260420T045726
CREATED:20260125T041754Z
LAST-MODIFIED:20260125T042142Z
UID:10003699-1788692400-1788710400@secretboston.co
SUMMARY:SoWa Sundays
DESCRIPTION:Spend a Sunday afternoon meeting the artists directly.\nFamily friendly and free event. Plenty of parking is available.
URL:https://secretboston.co/event/sowa-sundays/2026-09-06/
LOCATION:SoWa Art + Design District\, 450 Harrison Avenue\, Boston\, MA\, 02118\, United States
CATEGORIES:Community,Family & Kids,Markets & Shopping
ATTACH;FMTTYPE=image/jpeg:https://secretboston.co/wp-content/uploads/2026/01/sowa-sundays.jpg
END:VEVENT
BEGIN:VEVENT
DTSTART;TZID=UTC:20260913T110000
DTEND;TZID=UTC:20260913T160000
DTSTAMP:20260420T045726
CREATED:20260125T041754Z
LAST-MODIFIED:20260125T042142Z
UID:10003700-1789297200-1789315200@secretboston.co
SUMMARY:SoWa Sundays
DESCRIPTION:Spend a Sunday afternoon meeting the artists directly.\nFamily friendly and free event. Plenty of parking is available.
URL:https://secretboston.co/event/sowa-sundays/2026-09-13/
LOCATION:SoWa Art + Design District\, 450 Harrison Avenue\, Boston\, MA\, 02118\, United States
CATEGORIES:Community,Family & Kids,Markets & Shopping
ATTACH;FMTTYPE=image/jpeg:https://secretboston.co/wp-content/uploads/2026/01/sowa-sundays.jpg
END:VEVENT
BEGIN:VEVENT
DTSTART;TZID=UTC:20260920T110000
DTEND;TZID=UTC:20260920T160000
DTSTAMP:20260420T045726
CREATED:20260125T041754Z
LAST-MODIFIED:20260125T042142Z
UID:10003701-1789902000-1789920000@secretboston.co
SUMMARY:SoWa Sundays
DESCRIPTION:Spend a Sunday afternoon meeting the artists directly.\nFamily friendly and free event. Plenty of parking is available.
URL:https://secretboston.co/event/sowa-sundays/2026-09-20/
LOCATION:SoWa Art + Design District\, 450 Harrison Avenue\, Boston\, MA\, 02118\, United States
CATEGORIES:Community,Family & Kids,Markets & Shopping
ATTACH;FMTTYPE=image/jpeg:https://secretboston.co/wp-content/uploads/2026/01/sowa-sundays.jpg
END:VEVENT
BEGIN:VEVENT
DTSTART;TZID=UTC:20260927T110000
DTEND;TZID=UTC:20260927T160000
DTSTAMP:20260420T045726
CREATED:20260125T041754Z
LAST-MODIFIED:20260125T042142Z
UID:10003702-1790506800-1790524800@secretboston.co
SUMMARY:SoWa Sundays
DESCRIPTION:Spend a Sunday afternoon meeting the artists directly.\nFamily friendly and free event. Plenty of parking is available.
URL:https://secretboston.co/event/sowa-sundays/2026-09-27/
LOCATION:SoWa Art + Design District\, 450 Harrison Avenue\, Boston\, MA\, 02118\, United States
CATEGORIES:Community,Family & Kids,Markets & Shopping
ATTACH;FMTTYPE=image/jpeg:https://secretboston.co/wp-content/uploads/2026/01/sowa-sundays.jpg
END:VEVENT
BEGIN:VEVENT
DTSTART;TZID=UTC:20261004T110000
DTEND;TZID=UTC:20261004T160000
DTSTAMP:20260420T045726
CREATED:20260125T041754Z
LAST-MODIFIED:20260125T042142Z
UID:10003703-1791111600-1791129600@secretboston.co
SUMMARY:SoWa Sundays
DESCRIPTION:Spend a Sunday afternoon meeting the artists directly.\nFamily friendly and free event. Plenty of parking is available.
URL:https://secretboston.co/event/sowa-sundays/2026-10-04/
LOCATION:SoWa Art + Design District\, 450 Harrison Avenue\, Boston\, MA\, 02118\, United States
CATEGORIES:Community,Family & Kids,Markets & Shopping
ATTACH;FMTTYPE=image/jpeg:https://secretboston.co/wp-content/uploads/2026/01/sowa-sundays.jpg
END:VEVENT
BEGIN:VEVENT
DTSTART;TZID=UTC:20261011T110000
DTEND;TZID=UTC:20261011T160000
DTSTAMP:20260420T045726
CREATED:20260125T041754Z
LAST-MODIFIED:20260125T042142Z
UID:10003704-1791716400-1791734400@secretboston.co
SUMMARY:SoWa Sundays
DESCRIPTION:Spend a Sunday afternoon meeting the artists directly.\nFamily friendly and free event. Plenty of parking is available.
URL:https://secretboston.co/event/sowa-sundays/2026-10-11/
LOCATION:SoWa Art + Design District\, 450 Harrison Avenue\, Boston\, MA\, 02118\, United States
CATEGORIES:Community,Family & Kids,Markets & Shopping
ATTACH;FMTTYPE=image/jpeg:https://secretboston.co/wp-content/uploads/2026/01/sowa-sundays.jpg
END:VEVENT
BEGIN:VEVENT
DTSTART;TZID=UTC:20261018T110000
DTEND;TZID=UTC:20261018T160000
DTSTAMP:20260420T045726
CREATED:20260125T041754Z
LAST-MODIFIED:20260125T042142Z
UID:10003705-1792321200-1792339200@secretboston.co
SUMMARY:SoWa Sundays
DESCRIPTION:Spend a Sunday afternoon meeting the artists directly.\nFamily friendly and free event. Plenty of parking is available.
URL:https://secretboston.co/event/sowa-sundays/2026-10-18/
LOCATION:SoWa Art + Design District\, 450 Harrison Avenue\, Boston\, MA\, 02118\, United States
CATEGORIES:Community,Family & Kids,Markets & Shopping
ATTACH;FMTTYPE=image/jpeg:https://secretboston.co/wp-content/uploads/2026/01/sowa-sundays.jpg
END:VEVENT
BEGIN:VEVENT
DTSTART;TZID=UTC:20261025T110000
DTEND;TZID=UTC:20261025T160000
DTSTAMP:20260420T045726
CREATED:20260125T041754Z
LAST-MODIFIED:20260125T042142Z
UID:10003706-1792926000-1792944000@secretboston.co
SUMMARY:SoWa Sundays
DESCRIPTION:Spend a Sunday afternoon meeting the artists directly.\nFamily friendly and free event. Plenty of parking is available.
URL:https://secretboston.co/event/sowa-sundays/2026-10-25/
LOCATION:SoWa Art + Design District\, 450 Harrison Avenue\, Boston\, MA\, 02118\, United States
CATEGORIES:Community,Family & Kids,Markets & Shopping
ATTACH;FMTTYPE=image/jpeg:https://secretboston.co/wp-content/uploads/2026/01/sowa-sundays.jpg
END:VEVENT
BEGIN:VEVENT
DTSTART;TZID=UTC:20261101T110000
DTEND;TZID=UTC:20261101T160000
DTSTAMP:20260420T045726
CREATED:20260125T041754Z
LAST-MODIFIED:20260125T042142Z
UID:10003707-1793530800-1793548800@secretboston.co
SUMMARY:SoWa Sundays
DESCRIPTION:Spend a Sunday afternoon meeting the artists directly.\nFamily friendly and free event. Plenty of parking is available.
URL:https://secretboston.co/event/sowa-sundays/2026-11-01/
LOCATION:SoWa Art + Design District\, 450 Harrison Avenue\, Boston\, MA\, 02118\, United States
CATEGORIES:Community,Family & Kids,Markets & Shopping
ATTACH;FMTTYPE=image/jpeg:https://secretboston.co/wp-content/uploads/2026/01/sowa-sundays.jpg
END:VEVENT
BEGIN:VEVENT
DTSTART;TZID=UTC:20261108T110000
DTEND;TZID=UTC:20261108T160000
DTSTAMP:20260420T045726
CREATED:20260125T041754Z
LAST-MODIFIED:20260125T042142Z
UID:10003708-1794135600-1794153600@secretboston.co
SUMMARY:SoWa Sundays
DESCRIPTION:Spend a Sunday afternoon meeting the artists directly.\nFamily friendly and free event. Plenty of parking is available.
URL:https://secretboston.co/event/sowa-sundays/2026-11-08/
LOCATION:SoWa Art + Design District\, 450 Harrison Avenue\, Boston\, MA\, 02118\, United States
CATEGORIES:Community,Family & Kids,Markets & Shopping
ATTACH;FMTTYPE=image/jpeg:https://secretboston.co/wp-content/uploads/2026/01/sowa-sundays.jpg
END:VEVENT
BEGIN:VEVENT
DTSTART;TZID=UTC:20261115T110000
DTEND;TZID=UTC:20261115T160000
DTSTAMP:20260420T045726
CREATED:20260125T041754Z
LAST-MODIFIED:20260125T042142Z
UID:10003709-1794740400-1794758400@secretboston.co
SUMMARY:SoWa Sundays
DESCRIPTION:Spend a Sunday afternoon meeting the artists directly.\nFamily friendly and free event. Plenty of parking is available.
URL:https://secretboston.co/event/sowa-sundays/2026-11-15/
LOCATION:SoWa Art + Design District\, 450 Harrison Avenue\, Boston\, MA\, 02118\, United States
CATEGORIES:Community,Family & Kids,Markets & Shopping
ATTACH;FMTTYPE=image/jpeg:https://secretboston.co/wp-content/uploads/2026/01/sowa-sundays.jpg
END:VEVENT
END:VCALENDAR