BEGIN:VCALENDAR
VERSION:2.0
PRODID:-//Secret Boston | Events, Food and Culture - ECPv6.15.20//NONSGML v1.0//EN
CALSCALE:GREGORIAN
METHOD:PUBLISH
X-WR-CALNAME:Secret Boston | Events, Food and Culture
X-ORIGINAL-URL:https://secretboston.co
X-WR-CALDESC:Events for Secret Boston | Events, Food and Culture
REFRESH-INTERVAL;VALUE=DURATION:PT1H
X-Robots-Tag:noindex
X-PUBLISHED-TTL:PT1H
BEGIN:VTIMEZONE
TZID:America/New_York
BEGIN:DAYLIGHT
TZOFFSETFROM:-0500
TZOFFSETTO:-0400
TZNAME:EDT
DTSTART:20250309T070000
END:DAYLIGHT
BEGIN:STANDARD
TZOFFSETFROM:-0400
TZOFFSETTO:-0500
TZNAME:EST
DTSTART:20251102T060000
END:STANDARD
BEGIN:DAYLIGHT
TZOFFSETFROM:-0500
TZOFFSETTO:-0400
TZNAME:EDT
DTSTART:20260308T070000
END:DAYLIGHT
BEGIN:STANDARD
TZOFFSETFROM:-0400
TZOFFSETTO:-0500
TZNAME:EST
DTSTART:20261101T060000
END:STANDARD
BEGIN:DAYLIGHT
TZOFFSETFROM:-0500
TZOFFSETTO:-0400
TZNAME:EDT
DTSTART:20270314T070000
END:DAYLIGHT
BEGIN:STANDARD
TZOFFSETFROM:-0400
TZOFFSETTO:-0500
TZNAME:EST
DTSTART:20271107T060000
END:STANDARD
END:VTIMEZONE
BEGIN:VEVENT
DTSTART;TZID=America/New_York:20260416T200000
DTEND;TZID=America/New_York:20260418T220000
DTSTAMP:20260422T101219
CREATED:20260415T182252Z
LAST-MODIFIED:20260415T182252Z
UID:10007245-1776369600-1776549600@secretboston.co
SUMMARY:Jeeves & Wooster: Hijinks and Shenanigans
DESCRIPTION:Our Spring 2026 show will present original radio-drama adaptations of three P. G. Wodehouse stories featuring his iconic characters Bertie Wooster\, a wealthy and idle English gentleman\, and his valet (and frequent saviour) Jeeves. These three plays will be presented on stage in the style of old-time radio with actors at microphones and sound effects performed live by our talented Foley artists!
URL:https://secretboston.co/event/jeeves-wooster-hijinks-and-shenanigans/
LOCATION:Guild Church\, 52 Russell St\, Cambridge\, MA\, 02140\, United States
CATEGORIES:Arts & Culture,Theater
ATTACH;FMTTYPE=image/png:https://secretboston.co/wp-content/uploads/2026/04/jeeves.png
END:VEVENT
END:VCALENDAR